BEGIN:VCALENDAR
VERSION:2.0
CALSCALE:GREGORIAN
PRODID:adamgibbons/ics
METHOD:PUBLISH
X-PUBLISHED-TTL:PT1H
BEGIN:VEVENT
UID:26imsH7ambQpJW7VHGDlL
SUMMARY:Biona Dubh (Sgudal Coitcheann) (Nis a Tuath)
DTSTAMP:20260422T085400Z
DTSTART;VALUE=DATE:20260205
END:VEVENT
BEGIN:VEVENT
UID:EiWhUFN-3JrJWKVrO22GK
SUMMARY:Biona Dubh (Sgudal Coitcheann) (Nis a Tuath)
DTSTAMP:20260422T085400Z
DTSTART;VALUE=DATE:20260226
END:VEVENT
BEGIN:VEVENT
UID:37TQHvBU-47YeajeP3f9t
SUMMARY:Biona Dubh (Sgudal Coitcheann) (Nis a Tuath)
DTSTAMP:20260422T085400Z
DTSTART;VALUE=DATE:20260319
END:VEVENT
BEGIN:VEVENT
UID:9dy5t0jeJ2V1X-7dD9BJk
SUMMARY:Biona Dubh (Sgudal Coitcheann) (Nis a Tuath)
DTSTAMP:20260422T085400Z
DTSTART;VALUE=DATE:20260409
END:VEVENT
BEGIN:VEVENT
UID:AsJ1xCvoILPcVISSxAn-X
SUMMARY:Biona Dubh (Sgudal Coitcheann) (Nis a Tuath)
DTSTAMP:20260422T085400Z
DTSTART;VALUE=DATE:20260430
END:VEVENT
BEGIN:VEVENT
UID:OYIdMW24ZfKd68B71iyQF
SUMMARY:Biona Dubh (Sgudal Coitcheann) (Nis a Tuath)
DTSTAMP:20260422T085400Z
DTSTART;VALUE=DATE:20260521
END:VEVENT
BEGIN:VEVENT
UID:OQML32P92EQbIEMgqunnC
SUMMARY:Biona Dubh (Sgudal Coitcheann) (Nis a Tuath)
DTSTAMP:20260422T085400Z
DTSTART;VALUE=DATE:20260611
END:VEVENT
BEGIN:VEVENT
UID:ApgmzMQAKkLoPRb-ZRWSW
SUMMARY:Biona Gorm (Plastaig is Pàipear) (Ness)
DTSTAMP:20260422T085400Z
DTSTART;VALUE=DATE:20260401
END:VEVENT
BEGIN:VEVENT
UID:-Guj6JeONVz4ZMy9qJ1Cl
SUMMARY:Biona Gorm (Plastaig is Pàipear) (Ness)
DTSTAMP:20260422T085400Z
DTSTART;VALUE=DATE:20260422
END:VEVENT
BEGIN:VEVENT
UID:waNKXdoazxavOETRMK30Z
SUMMARY:Biona Gorm (Plastaig is Pàipear) (Ness)
DTSTAMP:20260422T085400Z
DTSTART;VALUE=DATE:20260513
END:VEVENT
BEGIN:VEVENT
UID:UTyk7pU8vc3TkpZoGca3I
SUMMARY:Biona Gorm (Plastaig is Pàipear) (Ness)
DTSTAMP:20260422T085400Z
DTSTART;VALUE=DATE:20260603
END:VEVENT
BEGIN:VEVENT
UID:mlRUvijkwe0aQ2AHN7rDH
SUMMARY:Biona Gorm (Plastaig is Pàipear) (Ness)
DTSTAMP:20260422T085400Z
DTSTART;VALUE=DATE:20260624
END:VEVENT
BEGIN:VEVENT
UID:bmbFgacml9FulPJxJsqJx
SUMMARY:Biona Uaine (Glainne) (Ness)
DTSTAMP:20260422T085400Z
DTSTART;VALUE=DATE:20260130
END:VEVENT
BEGIN:VEVENT
UID:pTIMqddQ2MWidualJe41j
SUMMARY:Biona Uaine (Glainne) (Ness)
DTSTAMP:20260422T085400Z
DTSTART;VALUE=DATE:20260403
END:VEVENT
BEGIN:VEVENT
UID:OUrUuTdMBze7ogzUX-RL8
SUMMARY:Biona Uaine (Glainne) (Ness)
DTSTAMP:20260422T085400Z
DTSTART;VALUE=DATE:20260605
END:VEVENT
END:VCALENDAR
